{"text_format":"2","workbook":"xlsx","n_sheets":2,"sheets":["Sheet1","Sheet2"],"not_rendered":{"charts":0,"images":0,"macros":0,"external_links":1,"defined_names":0,"comments":0,"pivot_tables":0},"unopened":[],"bounds":{"document_bytes":16777216,"sheet_cells":100000,"run_cost":"one","rows_first":2000,"rows_last":500,"rows_between":2000,"halvings":0,"cell_chars":16384,"cell_head_chars":4096},"cells_cut":0,"cells_raw":0,"read":"whole","date_system":"1900"}

{"sheet":"Sheet1","index":0,"n_rows":0,"n_cols":0,"rows_kept":0,"cut":false,"hidden":false,"merged":[]}

{"sheet":"Sheet2","index":1,"n_rows":45,"n_cols":11,"rows_kept":45,"cut":false,"hidden":false,"merged":[]}
[{"$f":"'[1]Postable Values'!A1","v":"Scheffler"},{"$f":"'[1]Postable Values'!B1","v":3047.0795421500002},null,{"$f":"'[1]Postable Values'!D1","v":"Todd"},{"$f":"[1]Composite!C47","v":508.80081240000004},null,{"$f":"'[1]Postable Values'!G1","v":"Noren"},{"$f":"'[1]Postable Values'!H1","v":250},null,{"$f":"'[1]Postable Values'!J1","v":"Furr"},{"$f":"'[1]Postable Values'!K1","v":170}]
[{"$f":"'[1]Postable Values'!$A2","v":"xxxxx"},{"$f":"'[1]Postable Values'!B2","v":"xxx"},null,{"$f":"'[1]Postable Values'!D2","v":"Aberg"},{"$f":"[1]Composite!C48","v":500},null,{"$f":"'[1]Postable Values'!G2","v":"Higgo"},{"$f":"'[1]Postable Values'!H2","v":239.55849909999998},null,{"$f":"'[1]Postable Values'!J2","v":"Gainey"},{"$f":"'[1]Postable Values'!K2","v":170}]
[{"$f":"'[1]Postable Values'!$A3","v":"Hovland"},{"$f":"'[1]Postable Values'!B3","v":2046.2740271499999},null,{"$f":"'[1]Postable Values'!D3","v":"Van Rooyen"},{"$f":"[1]Composite!C49","v":500},null,{"$f":"'[1]Postable Values'!G3","v":"Streelman"},{"$f":"'[1]Postable Values'!H3","v":234.52706000000001},null,{"$f":"'[1]Postable Values'!J3","v":"Gotterup"},{"$f":"'[1]Postable Values'!K3","v":170}]
[{"$f":"'[1]Postable Values'!$A4","v":"McIlroy"},{"$f":"'[1]Postable Values'!B4","v":2018.5461919000002},null,{"$f":"'[1]Postable Values'!D4","v":"Villegas"},{"$f":"[1]Composite!C50","v":500},null,{"$f":"'[1]Postable Values'!G4","v":"Bramlett"},{"$f":"'[1]Postable Values'!H4","v":231.69714429999999},null,{"$f":"'[1]Postable Values'!J4","v":"Greyserman"},{"$f":"'[1]Postable Values'!K4","v":170}]
[{"$f":"'[1]Postable Values'!$A5","v":"Clark"},{"$f":"'[1]Postable Values'!B5","v":1559.8359586500001},null,{"$f":"'[1]Postable Values'!D5","v":"List"},{"$f":"[1]Composite!C51","v":500},null,{"$f":"'[1]Postable Values'!G5","v":"Norrman"},{"$f":"'[1]Postable Values'!H5","v":230.88045500000001},null,{"$f":"'[1]Postable Values'!J5","v":"Gutschewski"},{"$f":"'[1]Postable Values'!K5","v":170}]
[{"$f":"'[1]Postable Values'!$A6","v":"Homa"},{"$f":"'[1]Postable Values'!B6","v":1523.42320195},null,{"$f":"'[1]Postable Values'!D6","v":"Cole"},{"$f":"[1]Composite!C52","v":486.26056529999994},null,{"$f":"'[1]Postable Values'!G6","v":"Bezuidenhout"},{"$f":"'[1]Postable Values'!H6","v":230.56419260000001},null,{"$f":"'[1]Postable Values'!J6","v":"Herman"},{"$f":"'[1]Postable Values'!K6","v":170}]
[{"$f":"'[1]Postable Values'!$A7","v":"Cantlay"},{"$f":"'[1]Postable Values'!B7","v":1504.08458965},null,{"$f":"'[1]Postable Values'!D7","v":"Poston"},{"$f":"[1]Composite!C53","v":473.44617},null,{"$f":"'[1]Postable Values'!G7","v":"Dahmen"},{"$f":"'[1]Postable Values'!H7","v":229.25959134999999},null,{"$f":"'[1]Postable Values'!J7","v":"Highsmith"},{"$f":"'[1]Postable Values'!K7","v":170}]
[{"$f":"'[1]Postable Values'!$A8","v":"Harman"},{"$f":"'[1]Postable Values'!B8","v":1326.8983524000002},null,{"$f":"'[1]Postable Values'!D8","v":"An"},{"$f":"[1]Composite!C54","v":468.60512169999998},null,{"$f":"'[1]Postable Values'!G8","v":"Wu, D"},{"$f":"'[1]Postable Values'!H8","v":224.53607714999998},null,{"$f":"'[1]Postable Values'!J8","v":"Hoey"},{"$f":"'[1]Postable Values'!K8","v":170}]
[{"$f":"'[1]Postable Values'!$A9","v":"Bradley"},{"$f":"'[1]Postable Values'!B9","v":1290.1128021500001},null,{"$f":"'[1]Postable Values'!D9","v":"Thomas"},{"$f":"[1]Composite!C55","v":467.19047849999998},null,{"$f":"'[1]Postable Values'!G9","v":"Lipsky"},{"$f":"'[1]Postable Values'!H9","v":220.86409714999999},null,{"$f":"'[1]Postable Values'!J9","v":"Johnson, T"},{"$f":"'[1]Postable Values'!K9","v":170}]
[{"$f":"'[1]Postable Values'!$A10","v":"Schauffele"},{"$f":"'[1]Postable Values'!B10","v":1221.31420265},null,{"$f":"'[1]Postable Values'!D10","v":"Hughes"},{"$f":"[1]Composite!C56","v":448.94073500000002},null,{"$f":"'[1]Postable Values'!G10","v":"Zalatoris"},{"$f":"'[1]Postable Values'!H10","v":213.84309999999999},null,{"$f":"'[1]Postable Values'!J10","v":"Kang"},{"$f":"'[1]Postable Values'!K10","v":170}]
[{"$f":"'[1]Postable Values'!$A11","v":"Hatton"},{"$f":"'[1]Postable Values'!B11","v":1208.8521965},null,{"$f":"'[1]Postable Values'!D11","v":"Scott"},{"$f":"[1]Composite!C57","v":442.33982750000001},null,{"$f":"'[1]Postable Values'!G11","v":"Lashley"},{"$f":"'[1]Postable Values'!H11","v":211.33446950000001},null,{"$f":"'[1]Postable Values'!J11","v":"Kim, Chan"},{"$f":"'[1]Postable Values'!K11","v":170}]
[{"$f":"'[1]Postable Values'!$A12","v":"Fitzpatrick"},{"$f":"'[1]Postable Values'!B12","v":1180.9586378500001},null,{"$f":"'[1]Postable Values'!D12","v":"Rodgers"},{"$f":"[1]Composite!C58","v":438.79784000000001},null,{"$f":"'[1]Postable Values'!G12","v":"Mullinax"},{"$f":"'[1]Postable Values'!H12","v":204.96463689999999},null,{"$f":"'[1]Postable Values'!J12","v":"Knapp"},{"$f":"'[1]Postable Values'!K12","v":170}]
[{"$f":"'[1]Postable Values'!$A13","v":"Fowler"},{"$f":"'[1]Postable Values'!B13","v":1138.02327365},null,{"$f":"'[1]Postable Values'!D13","v":"Mitchell"},{"$f":"[1]Composite!C59","v":428.45234809999999},null,{"$f":"'[1]Postable Values'!G13","v":"Hall"},{"$f":"'[1]Postable Values'!H13","v":203.06138429999999},null,{"$f":"'[1]Postable Values'!J13","v":"Knowles"},{"$f":"'[1]Postable Values'!K13","v":170}]
[{"$f":"'[1]Postable Values'!$A14","v":"Spieth"},{"$f":"'[1]Postable Values'!B14","v":1049.806235},null,{"$f":"'[1]Postable Values'!D14","v":"Smalley"},{"$f":"[1]Composite!C60","v":425.93419400000005},null,{"$f":"'[1]Postable Values'!G14","v":"Wallace"},{"$f":"'[1]Postable Values'!H14","v":200.36764390000002},null,{"$f":"'[1]Postable Values'!J14","v":"Kodaira"},{"$f":"'[1]Postable Values'!K14","v":170}]
[{"$f":"'[1]Postable Values'!$A15","v":"Burns"},{"$f":"'[1]Postable Values'!B15","v":1035.16220215},null,{"$f":"'[1]Postable Values'!D15","v":"Buckley"},{"$f":"[1]Composite!C61","v":417.42764285000004},null,{"$f":"'[1]Postable Values'!G15","v":"Pendrith"},{"$f":"'[1]Postable Values'!H15","v":200},null,{"$f":"'[1]Postable Values'!J15","v":"Kohles"},{"$f":"'[1]Postable Values'!K15","v":170}]
[{"$f":"'[1]Postable Values'!$A16","v":"Day"},{"$f":"'[1]Postable Values'!B16","v":1003.79991},null,{"$f":"'[1]Postable Values'!D16","v":"Kuchar"},{"$f":"[1]Composite!C62","v":411.147355},null,{"$f":"'[1]Postable Values'!G16","v":"Tarren"},{"$f":"'[1]Postable Values'!H16","v":199.11215705000001},null,{"$f":"'[1]Postable Values'!J16","v":"Kraft"},{"$f":"'[1]Postable Values'!K16","v":170}]
[{"$f":"'[1]Postable Values'!$A17","v":"Kitayama"},{"$f":"'[1]Postable Values'!B17","v":972.38480304999996},null,{"$f":"'[1]Postable Values'!D17","v":"Riley"},{"$f":"[1]Composite!C63","v":396.90044234999993},null,{"$f":"'[1]Postable Values'!G17","v":"Young, Car"},{"$f":"'[1]Postable Values'!H17","v":195.94689549999998},null,{"$f":"'[1]Postable Values'!J17","v":"Kuest"},{"$f":"'[1]Postable Values'!K17","v":170}]
[{"$f":"'[1]Postable Values'!$A18","v":"Fleetwood"},{"$f":"'[1]Postable Values'!B18","v":944.04294064999999},null,{"$f":"'[1]Postable Values'!D18","v":"Montgomery"},{"$f":"[1]Composite!C64","v":381.28066680000001},null,{"$f":"'[1]Postable Values'!G18","v":"McNealy"},{"$f":"'[1]Postable Values'!H18","v":189.9059925},null,{"$f":"'[1]Postable Values'!J18","v":"Lebioda"},{"$f":"'[1]Postable Values'!K18","v":170}]
[{"$f":"'[1]Postable Values'!$A19","v":"Im"},{"$f":"'[1]Postable Values'!B19","v":940.67606965000016},null,{"$f":"'[1]Postable Values'!D19","v":"Hardy"},{"$f":"[1]Composite!C65","v":376.73880134999996},null,{"$f":"'[1]Postable Values'!G19","v":"Ramey"},{"$f":"'[1]Postable Values'!H19","v":185.80094680000002},null,{"$f":"'[1]Postable Values'!J19","v":"Lindheim"},{"$f":"'[1]Postable Values'!K19","v":170}]
[{"$f":"'[1]Postable Values'!$A20","v":"McCarthy"},{"$f":"'[1]Postable Values'!B20","v":935.13580090000005},null,{"$f":"'[1]Postable Values'!D20","v":"Lowry"},{"$f":"[1]Composite!C66","v":375.36233665000003},null,{"$f":"'[1]Postable Values'!G20","v":"Sigg"},{"$f":"'[1]Postable Values'!H20","v":183.56072},null,{"$f":"'[1]Postable Values'!J20","v":"McCormick"},{"$f":"'[1]Postable Values'!K20","v":170}]
[{"$f":"'[1]Postable Values'!$A21","v":"Glover"},{"$f":"'[1]Postable Values'!B21","v":922.61702000000002},null,{"$f":"'[1]Postable Values'!D21","v":"Wu, B"},{"$f":"[1]Composite!C67","v":363.95444714999996},null,{"$f":"'[1]Postable Values'!G21","v":"Shelton"},{"$f":"'[1]Postable Values'!H21","v":181.52058304999997},null,{"$f":"'[1]Postable Values'!J21","v":"Meissner"},{"$f":"'[1]Postable Values'!K21","v":170}]
[{"$f":"'[1]Postable Values'!$A22","v":"Kim, Tom"},{"$f":"'[1]Postable Values'!B22","v":908.12299400000006},null,{"$f":"'[1]Postable Values'!D22","v":"Lee, K H"},{"$f":"[1]Composite!C68","v":351.91085734999996},null,{"$f":"'[1]Postable Values'!G22","v":"Baddeley"},{"$f":"'[1]Postable Values'!H22","v":180.70845109999999},null,{"$f":"'[1]Postable Values'!J22","v":"Murray"},{"$f":"'[1]Postable Values'!K22","v":170}]
[{"$f":"'[1]Postable Values'!$A23","v":"Henley"},{"$f":"'[1]Postable Values'!B23","v":896.3584421999999},null,{"$f":"'[1]Postable Values'!D23","v":"Hubbard"},{"$f":"[1]Composite!C69","v":349.30305845000004},null,{"$f":"'[1]Postable Values'!G23","v":"Lower"},{"$f":"'[1]Postable Values'!H23","v":179.61133469999999},null,{"$f":"'[1]Postable Values'!J23","v":"Phillips"},{"$f":"'[1]Postable Values'!K23","v":170}]
[{"$f":"'[1]Postable Values'!$A24","v":"Morikawa"},{"$f":"'[1]Postable Values'!B24","v":876.26382454999998},null,{"$f":"'[1]Postable Values'!D24","v":"Spaun"},{"$f":"[1]Composite!C70","v":347.89904230000002},null,{"$f":"'[1]Postable Values'!G24","v":"Martin, B"},{"$f":"'[1]Postable Values'!H24","v":177.22173905000002},null,{"$f":"'[1]Postable Values'!J24","v":"Potter"},{"$f":"'[1]Postable Values'!K24","v":170}]
[{"$f":"'[1]Postable Values'!$A25","v":"Taylor, N"},{"$f":"'[1]Postable Values'!B25","v":872.01123265000001},null,{"$f":"'[1]Postable Values'!D25","v":"Hossler"},{"$f":"[1]Composite!C71","v":345.51450425000007},null,{"$f":"'[1]Postable Values'!G25","v":"Gordon"},{"$f":"'[1]Postable Values'!H25","v":175.80401750000001},null,{"$f":"'[1]Postable Values'!J25","v":"Silverman"},{"$f":"'[1]Postable Values'!K25","v":170}]
[{"$f":"'[1]Postable Values'!$A26","v":"Finau"},{"$f":"'[1]Postable Values'!B26","v":850.80949214999998},null,{"$f":"'[1]Postable Values'!D26","v":"Blair"},{"$f":"[1]Composite!C72","v":345.42347179999996},null,{"$f":"'[1]Postable Values'!G26","v":"Duncan"},{"$f":"'[1]Postable Values'!H26","v":174.21233365000001},null,{"$f":"'[1]Postable Values'!J26","v":"Skinns"},{"$f":"'[1]Postable Values'!K26","v":170}]
[{"$f":"'[1]Postable Values'!$A27","v":"Theegala"},{"$f":"'[1]Postable Values'!B27","v":820.69405500000005},null,{"$f":"'[1]Postable Values'!D27","v":"Detry"},{"$f":"[1]Composite!C73","v":344.43662210000002},null,{"$f":"'[1]Postable Values'!G27","v":"Alexander"},{"$f":"'[1]Postable Values'!H27","v":174.00516924999999},null,{"$f":"'[1]Postable Values'!J27","v":"Sloan"},{"$f":"'[1]Postable Values'!K27","v":170}]
[{"$f":"'[1]Postable Values'!$A28","v":"English"},{"$f":"'[1]Postable Values'!B28","v":804.28175150000004},null,{"$f":"'[1]Postable Values'!D28","v":"Suh"},{"$f":"[1]Composite!C74","v":344.12504030000002},null,{"$f":"'[1]Postable Values'!G28","v":"Stallings, Sc"},{"$f":"'[1]Postable Values'!H28","v":172.5020485},null,{"$f":"'[1]Postable Values'!J28","v":"Stanger"},{"$f":"'[1]Postable Values'!K28","v":170}]
[{"$f":"'[1]Postable Values'!$A29","v":"Conners"},{"$f":"'[1]Postable Values'!B29","v":800.61496539999996},null,{"$f":"'[1]Postable Values'!D29","v":"Ryder"},{"$f":"[1]Composite!C75","v":342.36424439999996},null,{"$f":"'[1]Postable Values'!G29","v":"Ghim"},{"$f":"'[1]Postable Values'!H29","v":171.68182264999999},null,{"$f":"'[1]Postable Values'!J29","v":"Steelman"},{"$f":"'[1]Postable Values'!K29","v":170}]
[{"$f":"'[1]Postable Values'!$A30","v":"Kim, SW"},{"$f":"'[1]Postable Values'!B30","v":780.1090465499999},null,{"$f":"'[1]Postable Values'!D30","v":"Rai"},{"$f":"[1]Composite!C76","v":339.53938630000005},null,{"$f":"'[1]Postable Values'!G30","v":"Yu "},{"$f":"'[1]Postable Values'!H30","v":170.65562285000001},null,{"$f":"'[1]Postable Values'!J30","v":"Teater"},{"$f":"'[1]Postable Values'!K30","v":170}]
[{"$f":"'[1]Postable Values'!$A31","v":"Young, Cam"},{"$f":"'[1]Postable Values'!B31","v":774.03257214999996},null,{"$f":"'[1]Postable Values'!D31","v":"Jaeger"},{"$f":"[1]Composite!C77","v":334.97936830000003},null,{"$f":"'[1]Postable Values'!G31","v":"Baker"},{"$f":"'[1]Postable Values'!H31","v":170},null,{"$f":"'[1]Postable Values'!J31","v":"Trahan"},{"$f":"'[1]Postable Values'!K31","v":170}]
[{"$f":"'[1]Postable Values'!$A32","v":"Straka"},{"$f":"'[1]Postable Values'!B32","v":766.69834019999996},null,{"$f":"'[1]Postable Values'!D32","v":"Woodland"},{"$f":"[1]Composite!C78","v":327.19750249999998},null,{"$f":"'[1]Postable Values'!G32","v":"Barjon"},{"$f":"'[1]Postable Values'!H32","v":170},null,{"$f":"'[1]Postable Values'!J32","v":"xxxxx"},{"$f":"'[1]Postable Values'!K32","v":"xxx"}]
[{"$f":"'[1]Postable Values'!$A33","v":"Grillo"},{"$f":"'[1]Postable Values'!B33","v":762.01898285000004},null,{"$f":"'[1]Postable Values'!D33","v":"Reavie"},{"$f":"[1]Composite!C79","v":323.39371460000001},null,{"$f":"'[1]Postable Values'!G33","v":"Blixt"},{"$f":"'[1]Postable Values'!H33","v":170},null,{"$f":"'[1]Postable Values'!J33","v":"Werenski"},{"$f":"'[1]Postable Values'!K33","v":170}]
[{"$f":"'[1]Postable Values'!$A34","v":"Moore, T"},{"$f":"'[1]Postable Values'!B34","v":725.52214500000002},null,{"$f":"'[1]Postable Values'!D34","v":"Lingmerth"},{"$f":"[1]Composite!C80","v":319.10189005000007},null,{"$f":"'[1]Postable Values'!G34","v":"Bridgeman"},{"$f":"'[1]Postable Values'!H34","v":170},null,{"$f":"'[1]Postable Values'!J34","v":"White"},{"$f":"'[1]Postable Values'!K34","v":170}]
[{"$f":"'[1]Postable Values'!$A35","v":"Schenk"},{"$f":"'[1]Postable Values'!B35","v":705.03211090000002},null,{"$f":"'[1]Postable Values'!D35","v":"Eckroat"},{"$f":"[1]Composite!C81","v":313.87115714999999},null,{"$f":"'[1]Postable Values'!G35","v":"Bryan"},{"$f":"'[1]Postable Values'!H35","v":170},null,{"$f":"'[1]Postable Values'!J35","v":"Whitney"},{"$f":"'[1]Postable Values'!K35","v":170}]
[{"$f":"'[1]Postable Values'!$A36","v":"Rose"},{"$f":"'[1]Postable Values'!B36","v":672.09242030000007},null,{"$f":"'[1]Postable Values'!D36","v":"Stevens"},{"$f":"[1]Composite!C82","v":311.03514710000002},null,{"$f":"'[1]Postable Values'!G36","v":"Campos"},{"$f":"'[1]Postable Values'!H36","v":170},null,{"$f":"'[1]Postable Values'!J36","v":"Xiong"},{"$f":"'[1]Postable Values'!K36","v":170}]
[{"$f":"'[1]Postable Values'!$A37","v":"Hoge"},{"$f":"'[1]Postable Values'!B37","v":658.70559400000002},null,{"$f":"'[1]Postable Values'!D37","v":"NeSmith"},{"$f":"[1]Composite!C83","v":305.52007500000002},null,{"$f":"'[1]Postable Values'!G37","v":"Fox"},{"$f":"'[1]Postable Values'!H37","v":170},null,{"$f":"'[1]Postable Values'!J37","v":"Novak"},{"$f":"'[1]Postable Values'!K37","v":170}]
[{"$f":"'[1]Postable Values'!$A38","v":"Svensson"},{"$f":"'[1]Postable Values'!B38","v":618.10204150000004},null,{"$f":"'[1]Postable Values'!D38","v":"Griffin, B"},{"$f":"[1]Composite!C84","v":291.20263},null,{"$f":"'[1]Postable Values'!G38","v":"Clegg"},{"$f":"'[1]Postable Values'!H38","v":170},null,{"$f":"'[1]Postable Values'!J38","v":"Malnati"},{"$f":"'[1]Postable Values'!K38","v":170}]
[{"$f":"'[1]Postable Values'!$A39","v":"Putnam, A"},{"$f":"'[1]Postable Values'!B39","v":600.66812019999998},null,{"$f":"'[1]Postable Values'!D39","v":"Kim, M"},{"$f":"[1]Composite!C85","v":290.00246500000003},null,{"$f":"'[1]Postable Values'!G39","v":"Coody, Pa"},{"$f":"'[1]Postable Values'!H39","v":170},null,{"$f":"'[1]Postable Values'!J39","v":"Laird"},{"$f":"'[1]Postable Values'!K39","v":170}]
[{"$f":"'[1]Postable Values'!$A40","v":"Kirk"},{"$f":"'[1]Postable Values'!B40","v":593.96843000000001},null,{"$f":"'[1]Postable Values'!D40","v":"Bhatia"},{"$f":"[1]Composite!C86","v":277.39341000000002},null,{"$f":"'[1]Postable Values'!G40","v":"Coody, Pi"},{"$f":"'[1]Postable Values'!H40","v":170},null,{"$f":"'[1]Postable Values'!J40","v":"Echavarria"},{"$f":"'[1]Postable Values'!K40","v":170}]
[{"$f":"'[1]Postable Values'!$A41","v":"Davis"},{"$f":"'[1]Postable Values'!B41","v":580.74071219999996},null,{"$f":"'[1]Postable Values'!D41","v":"Thompson, D"},{"$f":"[1]Composite!C87","v":269.54760499999998},null,{"$f":"'[1]Postable Values'!G41","v":"Crane"},{"$f":"'[1]Postable Values'!H41","v":170},null,{"$f":"'[1]Postable Values'!J41","v":"Hadley"},{"$f":"'[1]Postable Values'!K41","v":170}]
[{"$f":"'[1]Postable Values'!$A42","v":"Matsuyama"},{"$f":"'[1]Postable Values'!B42","v":559.26892369999996},null,{"$f":"'[1]Postable Values'!D42","v":"Horschel"},{"$f":"[1]Composite!C88","v":262.56966705000002},null,{"$f":"'[1]Postable Values'!G42","v":"de Chassart"},{"$f":"'[1]Postable Values'!H42","v":170},null,{"$f":"'[1]Postable Values'!J42","v":"Merritt"},{"$f":"'[1]Postable Values'!K42","v":170}]
[{"$f":"'[1]Postable Values'!$A43","v":"Hadwin"},{"$f":"'[1]Postable Values'!B43","v":550.76703865000002},null,{"$f":"'[1]Postable Values'!D43","v":"Willet"},{"$f":"[1]Composite!C89","v":259.78936309999995},null,{"$f":"'[1]Postable Values'!G43","v":"Dougherty"},{"$f":"'[1]Postable Values'!H43","v":170},null,{"$f":"'[1]Postable Values'!J43","v":"Moore, R"},{"$f":"'[1]Postable Values'!K43","v":170}]
[{"$f":"'[1]Postable Values'!$A44","v":"Power"},{"$f":"'[1]Postable Values'!B44","v":549.95691349999993},null,{"$f":"'[1]Postable Values'!D44","v":"Taylor, B"},{"$f":"[1]Composite!C90","v":258.83355499999999},null,{"$f":"'[1]Postable Values'!G44","v":"Dufner"},{"$f":"'[1]Postable Values'!H44","v":170},null,{"$f":"'[1]Postable Values'!J44","v":"Schmid"},{"$f":"'[1]Postable Values'!K44","v":170}]
[{"$f":"'[1]Postable Values'!$A45","v":"Hodges"},{"$f":"'[1]Postable Values'!B45","v":529.31941004999999},null,{"$f":"'[1]Postable Values'!D45","v":"Kim, SH"},{"$f":"[1]Composite!C91","v":250},null,{"$f":"'[1]Postable Values'!G45","v":"Fishburn"},{"$f":"'[1]Postable Values'!H45","v":170}]